Workbook
Name SegmentaçãodeDados_Cliente: #N/A
Name SegmentaçãodeDados_Clientes: #N/A
Name SegmentaçãodeDados_Produto: #N/A
Name SegmentaçãodeDados_Produtos: #N/A

Sheet Home Page

Sheet Movimentação Financeira
A1: SKU Financas | B1: Data | C1: Tipo | D1: Descrição | E1: Valor | F1: Relacionado a pedido
A2: =IF(fato_financas[[#This Row],[Data]]="","",ROW()-1) -> 1 | B2: 46015 | C2: Entrada | D2: Teste | E2: 1500 | F2: Sim
A3: =IF(fato_financas[[#This Row],[Data]]="","",ROW()-1)
A4: =IF(fato_financas[[#This Row],[Data]]="","",ROW()-1)
A5: =IF(fato_financas[[#This Row],[Data]]="","",ROW()-1)
A6: =IF(fato_financas[[#This Row],[Data]]="","",ROW()-1)
A7: =IF(fato_financas[[#This Row],[Data]]="","",ROW()-1)
A8: =IF(fato_financas[[#This Row],[Data]]="","",ROW()-1)
A9: =IF(fato_financas[[#This Row],[Data]]="","",ROW()-1)
A10: =IF(fato_financas[[#This Row],[Data]]="","",ROW()-1)
A11: =IF(fato_financas[[#This Row],[Data]]="","",ROW()-1)
A12: =IF(fato_financas[[#This Row],[Data]]="","",ROW()-1)
A13: =IF(fato_financas[[#This Row],[Data]]="","",ROW()-1)
A14: =IF(fato_financas[[#This Row],[Data]]="","",ROW()-1)
... A30: =IF(fato_financas[[#This Row],[Data]]="","",ROW()-1)

Sheet Produção Diária
A1: SKU Producao | B1: Data da Produção | C1: Produto Produzido | D1: Quantidade | E1: Observação
A2: =IF(fato_producao[[#This Row],[Data da Produção]]="","",ROW()-1) -> 1 | B2: 46015 | C2: Produto 001
A3: =IF(fato_producao[[#This Row],[Data da Produção]]="","",ROW()-1) -> 2 | B3: 46380 | C3: Produto 002
A4: =IF(fato_producao[[#This Row],[Data da Produção]]="","",ROW()-1) | C4: Caneta
A5: =IF(fato_producao[[#This Row],[Data da Produção]]="","",ROW()-1) | C5: Produto Novo
A6: =IF(fato_producao[[#This Row],[Data da Produção]]="","",ROW()-1)
A7: =IF(fato_producao[[#This Row],[Data da Produção]]="","",ROW()-1)
A8: =IF(fato_producao[[#This Row],[Data da Produção]]="","",ROW()-1)
A9: =IF(fato_producao[[#This Row],[Data da Produção]]="","",ROW()-1)
A10: =IF(fato_producao[[#This Row],[Data da Produção]]="","",ROW()-1)
A11: =IF(fato_producao[[#This Row],[Data da Produção]]="","",ROW()-1)
A12: =IF(fato_producao[[#This Row],[Data da Produção]]="","",ROW()-1)
A13: =IF(fato_producao[[#This Row],[Data da Produção]]="","",ROW()-1)
A14: =IF(fato_producao[[#This Row],[Data da Produção]]="","",ROW()-1)
A15: =IF(fato_producao[[#This Row],[Data da Produção]]="","",ROW()-1)
A16: =IF(fato_producao[[#This Row],[Data da Produção]]="","",ROW()-1)
A17: =IF(fato_producao[[#This Row],[Data da Produção]]="","",ROW()-1)
... A30: =IF(fato_producao[[#This Row],[Data da Produção]]="","",ROW()-1)

Sheet Estoque Insumos
A1: SKU Producao | B1: Data da Contagem | C1: Produto Produzido | D1: Quantidade em Estoque | E1: Unidade
A2: =IF(fato_producao9[[#This Row],[Data da Contagem]]="","",ROW()-1) -> 1 | B2: 46015 | C2: Insumo 001 | D2: 10
A3: =IF(fato_producao9[[#This Row],[Data da Contagem]]="","",ROW()-1) -> 2 | B3: 46380 | C3: Insumo 002 | D3: 25
A4: =IF(fato_producao9[[#This Row],[Data da Contagem]]="","",ROW()-1) -> 3 | B4: 46015 | C4: Insumo 003 | D4: 30
A5: =IF(fato_producao9[[#This Row],[Data da Contagem]]="","",ROW()-1)
A6: =IF(fato_producao9[[#This Row],[Data da Contagem]]="","",ROW()-1)
A7: =IF(fato_producao9[[#This Row],[Data da Contagem]]="","",ROW()-1)
A8: =IF(fato_producao9[[#This Row],[Data da Contagem]]="","",ROW()-1)
A9: =IF(fato_producao9[[#This Row],[Data da Contagem]]="","",ROW()-1)
A10: =IF(fato_producao9[[#This Row],[Data da Contagem]]="","",ROW()-1)
A11: =IF(fato_producao9[[#This Row],[Data da Contagem]]="","",ROW()-1)
A12: =IF(fato_producao9[[#This Row],[Data da Contagem]]="","",ROW()-1)
A13: =IF(fato_producao9[[#This Row],[Data da Contagem]]="","",ROW()-1)
A14: =IF(fato_producao9[[#This Row],[Data da Contagem]]="","",ROW()-1)
A15: =IF(fato_producao9[[#This Row],[Data da Contagem]]="","",ROW()-1)
A16: =IF(fato_producao9[[#This Row],[Data da Contagem]]="","",ROW()-1)
... A30: =IF(fato_producao9[[#This Row],[Data da Contagem]]="","",ROW()-1)

Sheet Pedidos
A1: SKU Pedidos | B1: Data do Pedido | C1: Cliente | D1: Produto | E1: Quantidade | F1: Data Prometida
A2: =IF(fato_pedidos[[#This Row],[Data do Pedido]]="","",ROW()-1) -> 1 | B2: 46015 | C2: Cliente Novo | D2: Produto 001
A3: =IF(fato_pedidos[[#This Row],[Data do Pedido]]="","",ROW()-1) -> 2 | B3: 46380 | C3: Cliente 014 | D3: Produto 002
A4: =IF(fato_pedidos[[#This Row],[Data do Pedido]]="","",ROW()-1)
A5: =IF(fato_pedidos[[#This Row],[Data do Pedido]]="","",ROW()-1)
A6: =IF(fato_pedidos[[#This Row],[Data do Pedido]]="","",ROW()-1)
A7: =IF(fato_pedidos[[#This Row],[Data do Pedido]]="","",ROW()-1)
A8: =IF(fato_pedidos[[#This Row],[Data do Pedido]]="","",ROW()-1)
A9: =IF(fato_pedidos[[#This Row],[Data do Pedido]]="","",ROW()-1)
A10: =IF(fato_pedidos[[#This Row],[Data do Pedido]]="","",ROW()-1)
A11: =IF(fato_pedidos[[#This Row],[Data do Pedido]]="","",ROW()-1)
A12: =IF(fato_pedidos[[#This Row],[Data do Pedido]]="","",ROW()-1)
A13: =IF(fato_pedidos[[#This Row],[Data do Pedido]]="","",ROW()-1)
A14: =IF(fato_pedidos[[#This Row],[Data do Pedido]]="","",ROW()-1)
A15: =IF(fato_pedidos[[#This Row],[Data do Pedido]]="","",ROW()-1)
... A30: =IF(fato_pedidos[[#This Row],[Data do Pedido]]="","",ROW()-1)

Sheet Lançamentos Base
A1: SKU Base | B1: Produtos | C1: Med. Capacidade | D1: Clientes | E1: Observações
A2: =IF(fato_base[[#This Row],[Produtos]]="","",ROW()-1) -> 1 | B2: Produto 001 | C2: =IFERROR(VLOOKUP(fato_base[[#This Row],[Produtos]],'Lista de Produtos'!B:D,3),"Não Encontrado") -> 10 | D2: Cliente 001
A3: =IF(fato_base[[#This Row],[Produtos]]="","",ROW()-1) -> 2 | B3: Produto 005 | C3: =IFERROR(VLOOKUP(fato_base[[#This Row],[Produtos]],'Lista de Produtos'!B:D,3),"Não Encontrado") -> 50 | D3: Cliente 017
A4: =IF(fato_base[[#This Row],[Produtos]]="","",ROW()-1) -> 3 | B4: Papel | C4: =IFERROR(VLOOKUP(fato_base[[#This Row],[Produtos]],'Lista de Produtos'!B:D,3),"Não Encontrado") -> Med. Capacidade | D4: Cliente 016
A5: =IF(fato_base[[#This Row],[Produtos]]="","",ROW()-1) -> 4 | B5: Produto 011 | C5: =IFERROR(VLOOKUP(fato_base[[#This Row],[Produtos]],'Lista de Produtos'!B:D,3),"Não Encontrado") -> 110 | D5: Cliente 005
A6: =IF(fato_base[[#This Row],[Produtos]]="","",ROW()-1) -> 5 | B6: Produto 012 | C6: =IFERROR(VLOOKUP(fato_base[[#This Row],[Produtos]],'Lista de Produtos'!B:D,3),"Não Encontrado") -> 120 | D6: Cliente Novo
A7: =IF(fato_base[[#This Row],[Produtos]]="","",ROW()-1) -> 6 | B7: Produto 014 | C7: =IFERROR(VLOOKUP(fato_base[[#This Row],[Produtos]],'Lista de Produtos'!B:D,3),"Não Encontrado") -> 140
A8: =IF(fato_base[[#This Row],[Produtos]]="","",ROW()-1) -> 7 | B8: Produto 014 | C8: =IFERROR(VLOOKUP(fato_base[[#This Row],[Produtos]],'Lista de Produtos'!B:D,3),"Não Encontrado") -> 140
A9: =IF(fato_base[[#This Row],[Produtos]]="","",ROW()-1) -> 8 | B9: Produto 009 | C9: =IFERROR(VLOOKUP(fato_base[[#This Row],[Produtos]],'Lista de Produtos'!B:D,3),"Não Encontrado") -> 90 | D9: Cliente 017
A10: =IF(fato_base[[#This Row],[Produtos]]="","",ROW()-1) -> 9 | B10: Produto 013 | C10: =IFERROR(VLOOKUP(fato_base[[#This Row],[Produtos]],'Lista de Produtos'!B:D,3),"Não Encontrado") -> 130 | D10: Danilo
A11: =IF(fato_base[[#This Row],[Produtos]]="","",ROW()-1) -> 10 | B11: Produto Novo | C11: =IFERROR(VLOOKUP(fato_base[[#This Row],[Produtos]],'Lista de Produtos'!B:D,3),"Não Encontrado") -> 500 | D11: Cliente 016
A12: =IF(fato_base[[#This Row],[Produtos]]="","",ROW()-1) | C12: =IFERROR(VLOOKUP(fato_base[[#This Row],[Produtos]],'Lista de Produtos'!B:D,3),"Não Encontrado") -> Não Encontrado | D12: Guilhemre
A13: =IF(fato_base[[#This Row],[Produtos]]="","",ROW()-1) | C13: =IFERROR(VLOOKUP(fato_base[[#This Row],[Produtos]],'Lista de Produtos'!B:D,3),"Não Encontrado") -> Não Encontrado
A14: =IF(fato_base[[#This Row],[Produtos]]="","",ROW()-1) | C14: =IFERROR(VLOOKUP(fato_base[[#This Row],[Produtos]],'Lista de Produtos'!B:D,3),"Não Encontrado") -> Não Encontrado
A15: =IF(fato_base[[#This Row],[Produtos]]="","",ROW()-1) | C15: =IFERROR(VLOOKUP(fato_base[[#This Row],[Produtos]],'Lista de Produtos'!B:D,3),"Não Encontrado") -> Não Encontrado
A16: =IF(fato_base[[#This Row],[Produtos]]="","",ROW()-1) | C16: =IFERROR(VLOOKUP(fato_base[[#This Row],[Produtos]],'Lista de Produtos'!B:D,3),"Não Encontrado") -> Não Encontrado
A17: =IF(fato_base[[#This Row],[Produtos]]="","",ROW()-1) | C17: =IFERROR(VLOOKUP(fato_base[[#This Row],[Produtos]],'Lista de Produtos'!B:D,3),"Não Encontrado") -> Não Encontrado
A18: =IF(fato_base[[#This Row],[Produtos]]="","",ROW()-1) | C18: =IFERROR(VLOOKUP(fato_base[[#This Row],[Produtos]],'Lista de Produtos'!B:D,3),"Não Encontrado") -> Não Encontrado
A19: =IF(fato_base[[#This Row],[Produtos]]="","",ROW()-1) | C19: =IFERROR(VLOOKUP(fato_base[[#This Row],[Produtos]],'Lista de Produtos'!B:D,3),"Não Encontrado") -> Não Encontrado
A20: =IF(fato_base[[#This Row],[Produtos]]="","",ROW()-1) | C20: =IFERROR(VLOOKUP(fato_base[[#This Row],[Produtos]],'Lista de Produtos'!B:D,3),"Não Encontrado") -> Não Encontrado
A21: =IF(fato_base[[#This Row],[Produtos]]="","",ROW()-1) | C21: =IFERROR(VLOOKUP(fato_base[[#This Row],[Produtos]],'Lista de Produtos'!B:D,3),"Não Encontrado") -> Não Encontrado
A22: =IF(fato_base[[#This Row],[Produtos]]="","",ROW()-1) | C22: =IFERROR(VLOOKUP(fato_base[[#This Row],[Produtos]],'Lista de Produtos'!B:D,3),"Não Encontrado") -> Não Encontrado
A23: =IF(fato_base[[#This Row],[Produtos]]="","",ROW()-1) | C23: =IFERROR(VLOOKUP(fato_base[[#This Row],[Produtos]],'Lista de Produtos'!B:D,3),"Não Encontrado") -> Não Encontrado
A24: =IF(fato_base[[#This Row],[Produtos]]="","",ROW()-1) | C24: =IFERROR(VLOOKUP(fato_base[[#This Row],[Produtos]],'Lista de Produtos'!B:D,3),"Não Encontrado") -> Não Encontrado
... A158: =IF(fato_base[[#This Row],[Produtos]]="","",ROW()-1) | C158: =IFERROR(VLOOKUP(fato_base[[#This Row],[Produtos]],'Lista de Produtos'!B:D,3),"Não Encontrado") -> Não Encontrado

Sheet Lista de Clientes
A1: SKU Cliente | B1: Cliente | C1: Segmento
A2: =IF(dim_cliente[[#This Row],[Cliente]]="","",ROW()-1) -> 1 | B2: Cliente 001 | C2: A
A3: =IF(dim_cliente[[#This Row],[Cliente]]="","",ROW()-1) -> 2 | B3: Cliente 002 | C3: B
A4: =IF(dim_cliente[[#This Row],[Cliente]]="","",ROW()-1) -> 3 | B4: Cliente 003 | C4: C
A5: =IF(dim_cliente[[#This Row],[Cliente]]="","",ROW()-1) -> 4 | B5: Cliente 004 | C5: A
A6: =IF(dim_cliente[[#This Row],[Cliente]]="","",ROW()-1) -> 5 | B6: Cliente 005 | C6: B
A7: =IF(dim_cliente[[#This Row],[Cliente]]="","",ROW()-1) -> 6 | B7: Cliente 006 | C7: C
A8: =IF(dim_cliente[[#This Row],[Cliente]]="","",ROW()-1) -> 7 | B8: Cliente 007 | C8: A
A9: =IF(dim_cliente[[#This Row],[Cliente]]="","",ROW()-1) -> 8 | B9: Cliente 008 | C9: B
A10: =IF(dim_cliente[[#This Row],[Cliente]]="","",ROW()-1) -> 9 | B10: Cliente 009 | C10: C
A11: =IF(dim_cliente[[#This Row],[Cliente]]="","",ROW()-1) -> 10 | B11: Cliente 010 | C11: A
A12: =IF(dim_cliente[[#This Row],[Cliente]]="","",ROW()-1) -> 11 | B12: Cliente 011 | C12: B
A13: =IF(dim_cliente[[#This Row],[Cliente]]="","",ROW()-1) -> 12 | B13: Cliente 012 | C13: C
... A24: =IF(dim_cliente[[#This Row],[Cliente]]="","",ROW()-1) -> 23 | B24: Guilhemre | C24: BI
A25: =IF(dim_cliente[[#This Row],[Cliente]]="","",ROW()-1)

Sheet Lista de Produtos
A1: SKU Produto | B1: Nome Produto | C1: Categoria | D1: Med. Capacidade | E1: Legenda medida
A2: =IF(dim_produto[[#This Row],[Nome Produto]]="","",ROW()-1) -> 1 | B2: Produto 001 | C2: Categoria A | D2: 10 | E2: kg
A3: =IF(dim_produto[[#This Row],[Nome Produto]]="","",ROW()-1) -> 2 | B3: Produto 002 | C3: Categoria B | D3: 20 | E3: ml
A4: =IF(dim_produto[[#This Row],[Nome Produto]]="","",ROW()-1) -> 3 | B4: Produto 003 | C4: Categoria A | D4: 30 | E4: pol
A5: =IF(dim_produto[[#This Row],[Nome Produto]]="","",ROW()-1) -> 4 | B5: Produto 004 | C5: Categoria B | D5: 40
A6: =IF(dim_produto[[#This Row],[Nome Produto]]="","",ROW()-1) -> 5 | B6: Produto 005 | C6: Categoria A | D6: 50
A7: =IF(dim_produto[[#This Row],[Nome Produto]]="","",ROW()-1) -> 6 | B7: Produto 006 | C7: Categoria B | D7: 60
A8: =IF(dim_produto[[#This Row],[Nome Produto]]="","",ROW()-1) -> 7 | B8: Produto 007 | C8: Categoria A | D8: 70
A9: =IF(dim_produto[[#This Row],[Nome Produto]]="","",ROW()-1) -> 8 | B9: Produto 008 | C9: Categoria B | D9: 80
A10: =IF(dim_produto[[#This Row],[Nome Produto]]="","",ROW()-1) -> 9 | B10: Produto 009 | C10: Categoria A | D10: 90
A11: =IF(dim_produto[[#This Row],[Nome Produto]]="","",ROW()-1) -> 10 | B11: Produto 010 | C11: Categoria B | D11: 100
A12: =IF(dim_produto[[#This Row],[Nome Produto]]="","",ROW()-1) -> 11 | B12: Produto 011 | C12: Categoria A | D12: 110
A13: =IF(dim_produto[[#This Row],[Nome Produto]]="","",ROW()-1) -> 12 | B13: Produto 012 | C13: Categoria B | D13: 120
A14: =IF(dim_produto[[#This Row],[Nome Produto]]="","",ROW()-1) -> 13 | B14: Produto 013 | C14: Categoria A | D14: 130
A15: =IF(dim_produto[[#This Row],[Nome Produto]]="","",ROW()-1) -> 14 | B15: Produto 014 | C15: Categoria B | D15: 140
A16: =IF(dim_produto[[#This Row],[Nome Produto]]="","",ROW()-1) -> 15 | B16: Produto 015 | C16: Categoria A | D16: 150
... A22: =IF(dim_produto[[#This Row],[Nome Produto]]="","",ROW()-1) -> 21 | B22: Papel | C22: Árvore | D22: 250
A23: =IF(dim_produto[[#This Row],[Nome Produto]]="","",ROW()-1) -> 22 | B23: Caneta | C23: Preta | D23: 5 | E23: ml
A24: =IF(dim_produto[[#This Row],[Nome Produto]]="","",ROW()-1) -> 23 | B24: Produto Novo | C24: Novo | D24: 500 | E24: l

Sheet Lista de Insumos
A1: SKU Insumos | B1: Insumos
A2: =IF(dim_produto[[#This Row],[Nome Produto]]="","",ROW()-1) -> 1 | B2: Insumo 001
A3: =IF(dim_produto[[#This Row],[Nome Produto]]="","",ROW()-1) -> 2 | B3: Insumo 002
A4: =IF(dim_produto[[#This Row],[Nome Produto]]="","",ROW()-1) -> 3 | B4: Insumo 003
A5: =IF(dim_produto[[#This Row],[Nome Produto]]="","",ROW()-1) -> 4 | B5: Insumo 004
A6: =IF(dim_produto[[#This Row],[Nome Produto]]="","",ROW()-1) -> 5 | B6: Insumo 005
A7: =IF(dim_produto[[#This Row],[Nome Produto]]="","",ROW()-1) -> 6 | B7: Insumo 006
A8: =IF(dim_produto[[#This Row],[Nome Produto]]="","",ROW()-1) -> 7 | B8: Insumo 007
A9: =IF(dim_produto[[#This Row],[Nome Produto]]="","",ROW()-1) -> 8 | B9: Insumo 008
A10: =IF(dim_produto[[#This Row],[Nome Produto]]="","",ROW()-1) -> 9 | B10: Insumo 009
A11: =IF(dim_produto[[#This Row],[Nome Produto]]="","",ROW()-1) -> 10 | B11: Insumo 010
A12: =IF(dim_produto[[#This Row],[Nome Produto]]="","",ROW()-1) -> 11 | B12: Insumo 011
A13: =IF(dim_produto[[#This Row],[Nome Produto]]="","",ROW()-1) -> 12 | B13: Insumo 012
... A23: =IF(dim_produto[[#This Row],[Nome Produto]]="","",ROW()-1) -> 22 | B23: Insumo 022
A24: =IF(dim_produto[[#This Row],[Nome Produto]]="","",ROW()-1) -> 23
